{"text_format":"3","workbook":"xlsx","n_sheets":1,"sheets":["SM-sarja"],"read":"whole","date_system":"1900"}

{"sheet":"SM-sarja","index":0,"n_rows":22,"n_cols":25,"rows_kept":22}
[null,"Paula Lindfors"]
[null,"MESTARUUSSARJA",null,null,"Runkosarja",{"$nulls":6},"Ylempi loppusarja",{"$nulls":3},"Alempi loppusarja",{"$nulls":3},"           Arvo-ottelut ja mitalit"]
[null,"Vuosi","Sija","Seura","OTT","KUN","LÖI","TOI",1,null,null,"OTT","KUN","LÖI","TOI","OTT","KUN","LÖI","TOI","IL","LL","Cup","K","H","P"]
[null,1963,"9.","Tahko",6,1,2,2,null,null,{"$f":"PRODUCT(#REF!/#REF!)","v":{"$error":"#REF!"}}]
[null,1964,null,"Tahko"]
[null,1965,"7.","Tahko",10,2,10,4,null,null,{"$f":"PRODUCT(#REF!/#REF!)","v":{"$error":"#REF!"}}]
[null,1966,"4.","Tahko",10,3,13,9,null,null,{"$f":"PRODUCT(#REF!/#REF!)","v":{"$error":"#REF!"}}]
[null,1967,"6.","Tahko",10,0,9,4]
[null,1968,"7.","Tahko",2,1,2,2,null,null,{"$f":"PRODUCT(#REF!/#REF!)","v":{"$error":"#REF!"}}]
[null,1969,"8.","Tahko",10,1,8,6,null,null,{"$f":"PRODUCT(#REF!/#REF!)","v":{"$error":"#REF!"}}]
[null,1970,"6.","Tahko",10,0,10,6,null,null,{"$f":"PRODUCT(#REF!/#REF!)","v":{"$error":"#REF!"}}]
[null,1971,"8.","Tahko",7,1,5,2,null,null,{"$f":"PRODUCT(#REF!/#REF!)","v":{"$error":"#REF!"}}]
[null,"Yhteensä",null,null,{"$f":"SUM(E4:E12)","v":65},{"$f":"SUM(F4:F12)","v":9},{"$f":"SUM(G4:G12)","v":59},{"$f":"SUM(H4:H12)","v":35},{"$nulls":3},{"$f":"SUM(L4:L12)","v":0},{"$f":"SUM(M4:M12)","v":0},{"$f":"SUM(N4:N12)","v":0},{"$f":"SUM(O4:O12)","v":0},{"$f":"SUM(P4:P12)","v":0},{"$f":"SUM(Q4:Q12)","v":0},{"$f":"SUM(R4:R12)","v":0},{"$f":"SUM(S4:S12)","v":0},{"$f":"SUM(T4:T12)","v":0},0,0,0,0,0]
[null,"Pesispörssi",null,{"$f":"SUM(F13:H13)*5/3+(E13/3)+(T13*25)+(U13*25)+(V13*15)+(W13*25)+(X13*20)+(Y13*15)","v":{"v":193.33333333333331,"d":"193.3"}}]
[]
[null,"URA SM-SARJASSA",null,null,"OTT","KUN","LÖI","TOI","ka/L","ka/T",null,"ENSIMMÄISET RUNKOSARJASSA"]
[null,"Runkosarja",null,null,{"$f":"PRODUCT(E13)","v":65},{"$f":"PRODUCT(F13)","v":9},{"$f":"PRODUCT(G13)","v":59},{"$f":"PRODUCT(H13)","v":35},{"$f":"PRODUCT((F17+G17)/E17)","v":{"v":1.0461538461538462,"d":"1.05"}},{"$f":"PRODUCT(H17/E17)","v":{"v":0.5384615384615384,"d":"0.54"}},null,"Ottelu",null,"23.05. 1963  SMJ - Tahko  19-1",{"$nulls":6},"1. ottelu"]
[null,"Ylempi loppusarja",{"$nulls":9},"Lyöty ",null,"15.09. 1963  Tahko - PuMu  7-9",{"$nulls":6},"6. ottelu"]
[null,"Alempi loppusarja",{"$nulls":9},"Tuotu ",null,"25.08. 1963  Kiri - Tahko  14-12",{"$nulls":6},"5. ottelu"]
[null,"KAIKKI",null,null,{"$f":"SUM(E17:E19)","v":65},{"$f":"SUM(F17:F19)","v":9},{"$f":"SUM(G17:G19)","v":59},{"$f":"SUM(H17:H19)","v":35},{"$f":"PRODUCT((F20+G20)/E20)","v":{"v":1.0461538461538462,"d":"1.05"}},{"$f":"PRODUCT(H20/E20)","v":{"v":0.5384615384615384,"d":"0.54"}},null,"Kunnari",null,"15.09. 1963  Tahko - PuMu  7-9",{"$nulls":6},"6. ottelu"]
[]
[null,"Seurat",null,"Tahko = Hyvinkään Tahko  (1915)",{"$nulls":7},"Arvio; Vuosina 1965-1966 löi juoksuja 28 (11%), toi juoksuja 13 (5%). Näillä laskettu 1967."]